BEGIN:VCALENDAR
VERSION:2.0
PRODID:-//Integrative Health Practitioner Institute - ECPv6.13.2.1//NONSGML v1.0//EN
CALSCALE:GREGORIAN
METHOD:PUBLISH
X-ORIGINAL-URL:https://www.integrativehealthpractitioner.org
X-WR-CALDESC:Events for Integrative Health Practitioner Institute
REFRESH-INTERVAL;VALUE=DURATION:PT1H
X-Robots-Tag:noindex
X-PUBLISHED-TTL:PT1H
BEGIN:VTIMEZONE
TZID:UTC
BEGIN:STANDARD
TZOFFSETFROM:+0000
TZOFFSETTO:+0000
TZNAME:UTC
DTSTART:20240101T000000
END:STANDARD
END:VTIMEZONE
BEGIN:VTIMEZONE
TZID:America/New_York
BEGIN:DAYLIGHT
TZOFFSETFROM:-0500
TZOFFSETTO:-0400
TZNAME:EDT
DTSTART:20240310T070000
END:DAYLIGHT
BEGIN:STANDARD
TZOFFSETFROM:-0400
TZOFFSETTO:-0500
TZNAME:EST
DTSTART:20241103T060000
END:STANDARD
END:VTIMEZONE
BEGIN:VEVENT
DTSTART;TZID=UTC:20240702T153000
DTEND;TZID=UTC:20240702T163000
DTSTAMP:20260420T010821
CREATED:20240502T153217Z
LAST-MODIFIED:20240502T153710Z
UID:2868-1719934200-1719937800@www.integrativehealthpractitioner.org
SUMMARY:Member Exclusive: BME Module 6\, Workshop 2
DESCRIPTION:BME Members: Join Kate Mills live on July 2nd at 3:30 PM EST for Module 6\, Workshop 2!
URL:https://www.integrativehealthpractitioner.org/event/member-exclusive-bme-module-6-workshop-2-2/
ATTACH;FMTTYPE=image/jpeg:https://www.integrativehealthpractitioner.org/wp-content/uploads/2024/05/Sq_M6_07.02.jpg
END:VEVENT
BEGIN:VEVENT
DTSTART;TZID=UTC:20240709T153000
DTEND;TZID=UTC:20240709T163000
DTSTAMP:20260420T010821
CREATED:20240515T220142Z
LAST-MODIFIED:20240515T220142Z
UID:15845-1720539000-1720542600@www.integrativehealthpractitioner.org
SUMMARY:HPH Member Exclusive: HPH Workshop
DESCRIPTION:Join us live for the HPH Workshop with Dr. Cabral! Zoom links can be found in the Workshop section of the Welcome Module.
URL:https://www.integrativehealthpractitioner.org/event/hph-member-exclusive-hph-workshop-8/
ATTACH;FMTTYPE=image/jpeg:https://www.integrativehealthpractitioner.org/wp-content/uploads/2024/05/IHP_HPH-Workshop_07.09-SQ.jpg
END:VEVENT
BEGIN:VEVENT
DTSTART;TZID=UTC:20240710T150000
DTEND;TZID=UTC:20240710T160000
DTSTAMP:20260420T010821
CREATED:20240515T191823Z
LAST-MODIFIED:20240515T191823Z
UID:15824-1720623600-1720627200@www.integrativehealthpractitioner.org
SUMMARY:Member Exclusive: IHP Coaching Office Hours - Toxins & Detoxification
DESCRIPTION:Join us for a chance to learn from Dr. Cabral’s team of experienced IHP Health Coaches on biweekly live Zoom calls. Each week we’ll focus on a different topic from the DESTRESS protocol. \nIf you’d like additional support while going through the IHP curriculum\, or even while taking on new clients\, this is the place to be! \nVisit Level 1\, Module 1: IHP Coaching Office Hours for the Zoom link and to submit your questions. Questions will be accepted up to 48 hours before the call. \nWe hope to see you there!
URL:https://www.integrativehealthpractitioner.org/event/member-exclusive-ihp-coaching-office-hours-toxins-detoxification-9/
ATTACH;FMTTYPE=image/jpeg:https://www.integrativehealthpractitioner.org/wp-content/uploads/2024/05/IHP_OfficeHours_L1_07.10-SQ.jpg
END:VEVENT
BEGIN:VEVENT
DTSTART;TZID=America/New_York:20240715T130000
DTEND;TZID=America/New_York:20240715T133000
DTSTAMP:20260420T010821
CREATED:20240715T132335Z
LAST-MODIFIED:20240715T132335Z
UID:16643-1721048400-1721050200@www.integrativehealthpractitioner.org
SUMMARY:Prospective Students: IG Live with Dr. Cabral
DESCRIPTION:On Monday\, July 15th at 1:00 PM EDT our very own\, Dr. Stephen Cabral\, will be hosting a live Q&A on our Instagram handle (IHP_Certification)! If you've been considering IHP this is the time to join us and ask all your questions about health coaching\, the IHP certification program\, what it takes to establish a career in this industry and more.Feel free to submit questions early by sending us a DM on Instagram. We can't wait to connect with you all live soon!
URL:https://www.integrativehealthpractitioner.org/event/prospective-students-ig-live-with-dr-cabral-32/
ATTACH;FMTTYPE=image/jpeg:https://www.integrativehealthpractitioner.org/wp-content/uploads/2024/07/IHP_LiveQA_07.15-sq.jpg
END:VEVENT
BEGIN:VEVENT
DTSTART;TZID=UTC:20240716T153000
DTEND;TZID=UTC:20240716T163000
DTSTAMP:20260420T010821
CREATED:20240515T190827Z
LAST-MODIFIED:20240515T190827Z
UID:15814-1721143800-1721147400@www.integrativehealthpractitioner.org
SUMMARY:Member Exclusive: IHP Live Q&A with Dr. Cabral
DESCRIPTION:On Tuesday\, July 16th at 3:30 PM ET\, Dr. Cabral will be hosting a live Q&A via Zoom and on Facebook in our IHP Facebook group! IHP Level 1 students – this Q&A is time set aside especially for your questions! Feel free to submit questions early by posting them in the Facebook comments section of the event! We are looking forward to connecting with you all live soon! Zoom Links are posted in L1 FB group and sent via email.
URL:https://www.integrativehealthpractitioner.org/event/member-exclusive-ihp-live-qa-with-dr-cabral-22/
ATTACH;FMTTYPE=image/jpeg:https://www.integrativehealthpractitioner.org/wp-content/uploads/2024/05/IHP_LiveQA_L1_07.16-sq.jpg
END:VEVENT
BEGIN:VEVENT
DTSTART;TZID=UTC:20240717T150000
DTEND;TZID=UTC:20240717T160000
DTSTAMP:20260420T010821
CREATED:20240515T192642Z
LAST-MODIFIED:20240515T192642Z
UID:15836-1721228400-1721232000@www.integrativehealthpractitioner.org
SUMMARY:Member Exclusive: IHP Coaching Office Hours - Hair Tissue Mineral Analysis
DESCRIPTION:Join us for a chance to learn from Dr. Cabral’s team of experienced IHP Health Coaches on biweekly live Zoom calls. Each week we’ll focus on a different functional health lab and related protocols. \nIf you’d like additional support while going through the IHP curriculum\, or even while taking on new clients\, this is the place to be! \nVisit Level 2\, Module 1: IHP Coaching Office Hours for the Zoom link and to submit your questions. Questions will be accepted up to 48 hours before the call. \nWe hope to see you there!
URL:https://www.integrativehealthpractitioner.org/event/member-exclusive-ihp-coaching-office-hours-hair-tissue-mineral-analysis-10/
ATTACH;FMTTYPE=image/jpeg:https://www.integrativehealthpractitioner.org/wp-content/uploads/2024/05/IHP_OfficeHours_L2_07.17-SQ.jpg
END:VEVENT
BEGIN:VEVENT
DTSTART;TZID=UTC:20240718T153000
DTEND;TZID=UTC:20240718T163000
DTSTAMP:20260420T010821
CREATED:20240502T153217Z
LAST-MODIFIED:20240515T222029Z
UID:2870-1721316600-1721320200@www.integrativehealthpractitioner.org
SUMMARY:Member Exclusive: BME Bonus Workshop
DESCRIPTION:BME Members: Join Kate Mills live on July 18th at 3:30 PM EST for a special bonus workshop!
URL:https://www.integrativehealthpractitioner.org/event/member-exclusive-bme-bonus-workshop-2/
ATTACH;FMTTYPE=image/jpeg:https://www.integrativehealthpractitioner.org/wp-content/uploads/2024/05/BME_LiveWorkshop_Sq_Bonus_07.18.jpg
END:VEVENT
BEGIN:VEVENT
DTSTART;TZID=America/New_York:20240723T130000
DTEND;TZID=America/New_York:20240723T140000
DTSTAMP:20260420T010821
CREATED:20240620T141717Z
LAST-MODIFIED:20240620T141717Z
UID:16337-1721739600-1721743200@www.integrativehealthpractitioner.org
SUMMARY:Member Exclusive: IHP2 Live Q&A with Sylvia & Simone
DESCRIPTION:On Tuesday\, July 23rd at 1:00 PM EDT\, Sylvia & Simone will be hosting a live Q&A via Zoom and on Facebook in our Level 2 group! IHP Level 2 students – this Q&A is time set aside especially for your questions! Feel free to submit questions early by posting them in the Facebook comments section of the event! We are looking forward to connecting with you all live soon! Zoom Links are posted in L2 FB group and sent via email.
URL:https://www.integrativehealthpractitioner.org/event/member-exclusive-ihp2-live-qa-with-sylvia-simone-2/
ATTACH;FMTTYPE=image/jpeg:https://www.integrativehealthpractitioner.org/wp-content/uploads/2024/06/IHP_LiveQA_L2_07.23-sq.jpeg
END:VEVENT
BEGIN:VEVENT
DTSTART;TZID=America/New_York:20240723T170000
DTEND;TZID=America/New_York:20240723T180000
DTSTAMP:20260420T010821
CREATED:20240701T175045Z
LAST-MODIFIED:20240701T175045Z
UID:16484-1721754000-1721757600@www.integrativehealthpractitioner.org
SUMMARY:Member Exclusive: New Student Orientation Call
DESCRIPTION:Join us for our New Student Orientation call for new IHP members\, led by one of our IHP graduates\, This virtual meet-up serves to give you a basic introduction to the IHP course as you get started.
URL:https://www.integrativehealthpractitioner.org/event/member-exclusive-new-student-orientation-call-34/
ATTACH;FMTTYPE=image/jpeg:https://www.integrativehealthpractitioner.org/wp-content/uploads/2024/07/IHP_NewStudent_07.23-sq.jpeg
END:VEVENT
BEGIN:VEVENT
DTSTART;TZID=UTC:20240724T130000
DTEND;TZID=UTC:20240724T140000
DTSTAMP:20260420T010821
CREATED:20240515T191924Z
LAST-MODIFIED:20240515T191924Z
UID:15826-1721826000-1721829600@www.integrativehealthpractitioner.org
SUMMARY:Member Exclusive: IHP Coaching Office Hours - Foundational Supplements
DESCRIPTION:Join us for a chance to learn from Dr. Cabral’s team of experienced IHP Health Coaches on biweekly live Zoom calls. Each week we’ll focus on a different topic from the DESTRESS protocol. \nIf you’d like additional support while going through the IHP curriculum\, or even while taking on new clients\, this is the place to be! \nVisit Level 1\, Module 1: IHP Coaching Office Hours for the Zoom link and to submit your questions. Questions will be accepted up to 48 hours before the call. \nWe hope to see you there!
URL:https://www.integrativehealthpractitioner.org/event/member-exclusive-ihp-coaching-office-hours-foundational-supplements-10/
ATTACH;FMTTYPE=image/jpeg:https://www.integrativehealthpractitioner.org/wp-content/uploads/2024/05/IHP_OfficeHours_L1_07.24-SQ.jpg
END:VEVENT
BEGIN:VEVENT
DTSTART;TZID=UTC:20240731T130000
DTEND;TZID=UTC:20240731T140000
DTSTAMP:20260420T010821
CREATED:20240515T215906Z
LAST-MODIFIED:20240712T143724Z
UID:15840-1722430800-1722434400@www.integrativehealthpractitioner.org
SUMMARY:Member Exclusive: IHP Coaching Office Hours - Stool Test
DESCRIPTION:Join us for a chance to learn from Dr. Cabral’s team of experienced IHP Health Coaches on biweekly live Zoom calls. Each week we’ll focus on a different functional health lab and related protocols. \nIf you’d like additional support while going through the IHP curriculum\, or even while taking on new clients\, this is the place to be! \nVisit Level 2\, Module 1: IHP Coaching Office Hours for the Zoom link and to submit your questions. Questions will be accepted up to 48 hours before the call. \nWe hope to see you there!
URL:https://www.integrativehealthpractitioner.org/event/member-exclusive-ihp-coaching-office-hours-stool-test-9/
ATTACH;FMTTYPE=image/jpeg:https://www.integrativehealthpractitioner.org/wp-content/uploads/2024/05/IHP_OfficeHours_L2_07.31-SQ-1.jpg
END:VEVENT
END:VCALENDAR